BEGIN:VCALENDAR
VERSION:2.0
PRODID:-//Tukios.com/
BEGIN:VEVENT
UID:b6fa2a59-7010-4147-b762-557e8b3ba48a@www.willisfuneralhome.com
DTSTAMP:20260421T210730Z
DTSTART:20260423T180000Z
DTEND:20260423T190000Z
SUMMARY:Graveside Service
DESCRIPTION:
URL:https://www.willisfuneralhome.com/obituaries/richard-shaffer
LOCATION:Swan Creek Cemetery Rt. 7 South  Crown City OH 45623
GEO:38.6485838;-82.1811048
END:VEVENT
END:VCALENDAR