BEGIN:VCALENDAR
VERSION:2.0
PRODID:-//Tukios.com/
BEGIN:VEVENT
UID:c0f62519-ad38-4748-89e3-9f9659d86cad@www.willisfuneralhome.com
DTSTAMP:20260426T040548Z
DTSTART:20260428T150000Z
DTEND:20260428T161500Z
SUMMARY:Visitation
DESCRIPTION:
URL:https://www.willisfuneralhome.com/obituaries/roy-sayre
LOCATION:Willis Funeral Home 12 Garfield Ave  Gallipolis OH 45631
GEO:38.8058372;-82.2162612
END:VEVENT
END:VCALENDAR