BEGIN:VCALENDAR
VERSION:2.0
PRODID:-//Tukios.com/
BEGIN:VEVENT
UID:60da3bc3-2d18-4e27-8d92-f3707023e3e9@www.willisfuneralhome.com
DTSTAMP:20260426T040437Z
DTSTART:20260428T170000Z
DTEND:20260428T180000Z
SUMMARY:Graveside Service
DESCRIPTION:
URL:https://www.willisfuneralhome.com/obituaries/roy-sayre
LOCATION:Gravel Hill Cemetery 1079 Gravel Hill Road  Cheshire OH 45620
GEO:38.942902;-82.1310711
END:VEVENT
END:VCALENDAR